BEGIN:VCALENDAR
VERSION:2.0
PRODID:spatie/icalendar-generator
DESCRIPTION:Events from La Conchita Beach California
X-WR-CALDESC:Events from La Conchita Beach California
REFRESH-INTERVAL;VALUE=DURATION:PT1440M
X-PUBLISHED-TTL:PT1440M
BEGIN:VTIMEZONE
TZID:America/Los_Angeles
BEGIN:STANDARD
DTSTART:20241103T020000Z
TZOFFSETFROM:-0700
TZOFFSETTO:-0800
END:STANDARD
BEGIN:DAYLIGHT
DTSTART:20250309T020000Z
TZOFFSETFROM:-0800
TZOFFSETTO:-0700
END:DAYLIGHT
BEGIN:STANDARD
DTSTART:20251102T020000Z
TZOFFSETFROM:-0700
TZOFFSETTO:-0800
END:STANDARD
END:VTIMEZONE
BEGIN:VTIMEZONE
TZID:UTC
BEGIN:STANDARD
DTSTART:20250727T182041Z
TZOFFSETFROM:+0000
TZOFFSETTO:+0000
END:STANDARD
END:VTIMEZONE
BEGIN:VEVENT
UID:12-11
DTSTAMP:20260423T182041Z
SUMMARY:Town wide Yard Sale check in
LOCATION:
ORGANIZER;CN=jerome.nesnadny@gmail.com:MAILTO:jerome.nesnadny@gmail.com
DTSTART;TZID=America/Los_Angeles:20250501T190000
DTEND;TZID=America/Los_Angeles:20250501T200000
X-ALT-DESC;FMTTYPE=TEXT/HTML:Pre Yard Sale Check in Time Time May 1\, 2025 
 07:00 PM Pacific Time (US and Canada) Meeting ID Meeting ID 845 0234 9653 
 Security Security checkedPasscode ********Show Invite Link Invite Link htt
 ps://us06web.zoom.us/j/84502349653?pwd=cufAqJnosNhGHndEyor47cDoSpP2YG.1 ht
 tps://us06web.zoom.us/j/84502349653?pwd=cufAqJnosNhGHndEyor47cDoSpP2YG.1 
CATEGORIES:General
URL;VALUE=URI:https://laconchitabeach.com/mc-events/town-wide-yard-sale-che
 ck-in/
METHOD:PUBLISH
END:VEVENT
END:VCALENDAR