BEGIN:VCALENDAR
VERSION:2.0
PRODID:spatie/icalendar-generator
DESCRIPTION:Events from La Conchita Beach California
X-WR-CALDESC:Events from La Conchita Beach California
REFRESH-INTERVAL;VALUE=DURATION:PT1440M
X-PUBLISHED-TTL:PT1440M
BEGIN:VTIMEZONE
TZID:America/Los_Angeles
BEGIN:STANDARD
DTSTART:20251102T020000Z
TZOFFSETFROM:-0700
TZOFFSETTO:-0800
END:STANDARD
BEGIN:DAYLIGHT
DTSTART:20260308T020000Z
TZOFFSETFROM:-0800
TZOFFSETTO:-0700
END:DAYLIGHT
END:VTIMEZONE
BEGIN:VTIMEZONE
TZID:UTC
BEGIN:STANDARD
DTSTART:20250727T182713Z
TZOFFSETFROM:+0000
TZOFFSETTO:+0000
END:STANDARD
END:VTIMEZONE
BEGIN:VEVENT
UID:36-20
DTSTAMP:20260423T182713Z
SUMMARY:Topic: Gathering to discuss LCCO Response to Ventura Evacuation Ord
 er Time: Jan 28\, 2026 06:00 PM Pacific Time (US and Canada)
LOCATION:
ORGANIZER;CN=jerome.nesnadny@gmail.com:MAILTO:jerome.nesnadny@gmail.com
DTSTART;TZID=America/Los_Angeles;VALUE=DATE:20260126
DTEND;TZID=America/Los_Angeles;VALUE=DATE:20260127
X-ALT-DESC;FMTTYPE=TEXT/HTML:&amp;nbsp\; Topic: Gathering to discuss LCCO Respo
 nse to Ventura Evacuation Order Time: Jan 28\, 2026 06:00 PM Pacific Time 
 (US and Canada) Join Zoom Meeting https://us06web.zoom.us/j/82845477718?pw
 d=57J7ZFLP8r8FXcQ83aPy9eQzb23LmK.1 Meeting ID: 828 4547 7718 Passcode: 668
 163 --- One tap mobile +16694449171\,\,82845477718#\,\,\,\,*668163# US +16
 699006833\,\,82845477718#\,\,\,\,*668163# US (San Jose) Join instructions 
 https://us06web.zoom.us/meetings/82845477718/invitations?signature=VuWstTx
 4JBioC9MOnNg5kUvxceuWxhWawLD-6AFSSBs &amp;nbsp\;
CATEGORIES:General
URL;VALUE=URI:https://laconchitabeach.com/mc-events/topic-gathering-to-disc
 uss-lcco-response-to-ventura-evacuation-order-time-jan-28-2026-0600-pm-pac
 ific-time-us-and-canada/
METHOD:PUBLISH
END:VEVENT
END:VCALENDAR