BEGIN:VCALENDAR
VERSION:2.0
PRODID:spatie/icalendar-generator
DESCRIPTION:Events from La Conchita Beach California
X-WR-CALDESC:Events from La Conchita Beach California
REFRESH-INTERVAL;VALUE=DURATION:PT1440M
X-PUBLISHED-TTL:PT1440M
BEGIN:VTIMEZONE
TZID:America/Los_Angeles
BEGIN:STANDARD
DTSTART:20241103T020000Z
TZOFFSETFROM:-0700
TZOFFSETTO:-0800
END:STANDARD
BEGIN:DAYLIGHT
DTSTART:20250309T020000Z
TZOFFSETFROM:-0800
TZOFFSETTO:-0700
END:DAYLIGHT
BEGIN:STANDARD
DTSTART:20251102T020000Z
TZOFFSETFROM:-0700
TZOFFSETTO:-0800
END:STANDARD
END:VTIMEZONE
BEGIN:VTIMEZONE
TZID:UTC
BEGIN:STANDARD
DTSTART:20250727T181117Z
TZOFFSETFROM:+0000
TZOFFSETTO:+0000
END:STANDARD
END:VTIMEZONE
BEGIN:VEVENT
UID:11-9
DTSTAMP:20260423T181117Z
SUMMARY:May LCCO Administrative Committee Meeting
LOCATION:
ORGANIZER;CN=jerome.nesnadny@gmail.com:MAILTO:jerome.nesnadny@gmail.com
DTSTART;TZID=America/Los_Angeles:20250515T190000
DTEND;TZID=America/Los_Angeles:20250515T200000
X-ALT-DESC;FMTTYPE=TEXT/HTML:Topic May-LCCO Administrative Committee Meetin
 g Time Time May 15\, 2025 07:00 PM Pacific Time (US and Canada) Meeting ID
  Meeting ID 838 4593 1743 Security Security checkedPasscode ********Show I
 nvite Link Invite Link https://us06web.zoom.us/j/83845931743?pwd=cnxKwzdhm
 auk2jJPnFKvlB9FPbeCLR.1 https://us06web.zoom.us/j/83845931743?pwd=cnxKwzdh
 mauk2jJPnFKvlB9FPbeCLR.1 
CATEGORIES:General
URL;VALUE=URI:https://laconchitabeach.com/mc-events/may-lcco-administrative
 -committee-meeting/
METHOD:PUBLISH
END:VEVENT
END:VCALENDAR