BEGIN:VCALENDAR
VERSION:2.0
PRODID:spatie/icalendar-generator
DESCRIPTION:Events from La Conchita Beach California
X-WR-CALDESC:Events from La Conchita Beach California
REFRESH-INTERVAL;VALUE=DURATION:PT1440M
X-PUBLISHED-TTL:PT1440M
BEGIN:VTIMEZONE
TZID:America/Los_Angeles
BEGIN:STANDARD
DTSTART:20241103T020000Z
TZOFFSETFROM:-0700
TZOFFSETTO:-0800
END:STANDARD
BEGIN:DAYLIGHT
DTSTART:20250309T020000Z
TZOFFSETFROM:-0800
TZOFFSETTO:-0700
END:DAYLIGHT
END:VTIMEZONE
BEGIN:VTIMEZONE
TZID:UTC
BEGIN:STANDARD
DTSTART:20250727T164025Z
TZOFFSETFROM:+0000
TZOFFSETTO:+0000
END:STANDARD
END:VTIMEZONE
BEGIN:VEVENT
UID:10-10
DTSTAMP:20260423T164025Z
SUMMARY:March LCCO Administrative Committee Meeting
LOCATION:
ORGANIZER;CN=jerome.nesnadny@gmail.com:MAILTO:jerome.nesnadny@gmail.com
DTSTART;TZID=America/Los_Angeles:20250327T190000
DTEND;TZID=America/Los_Angeles:20250327T200000
X-ALT-DESC;FMTTYPE=TEXT/HTML:Topic: LCCO Administrative Committee Meeting T
 ime: Mar 27\, 2025 07:00 PM Pacific Time (US and Canada) Join Zoom Meeting
  https://us06web.zoom.us/j/86790434003?pwd=oxs7v7ppise2MDz4eF2ZTYb6fKgKWZ.
 1 Meeting ID: 867 9043 4003 Passcode: 241653
CATEGORIES:General
URL;VALUE=URI:https://laconchitabeach.com/mc-events/march-lcco-administrati
 ve-committee-meeting/
METHOD:PUBLISH
END:VEVENT
END:VCALENDAR