BEGIN:VCALENDAR
VERSION:2.0
PRODID:spatie/icalendar-generator
DESCRIPTION:Events from La Conchita Beach California
X-WR-CALDESC:Events from La Conchita Beach California
REFRESH-INTERVAL;VALUE=DURATION:PT1440M
X-PUBLISHED-TTL:PT1440M
BEGIN:VTIMEZONE
TZID:America/Los_Angeles
BEGIN:STANDARD
DTSTART:20251102T020000Z
TZOFFSETFROM:-0700
TZOFFSETTO:-0800
END:STANDARD
BEGIN:DAYLIGHT
DTSTART:20260308T020000Z
TZOFFSETFROM:-0800
TZOFFSETTO:-0700
END:DAYLIGHT
BEGIN:STANDARD
DTSTART:20261101T020000Z
TZOFFSETFROM:-0700
TZOFFSETTO:-0800
END:STANDARD
END:VTIMEZONE
BEGIN:VTIMEZONE
TZID:UTC
BEGIN:STANDARD
DTSTART:20250727T133416Z
TZOFFSETFROM:+0000
TZOFFSETTO:+0000
END:STANDARD
END:VTIMEZONE
BEGIN:VEVENT
UID:22-6
DTSTAMP:20260423T133416Z
SUMMARY:La Conchita Yard Sale
LOCATION:
ORGANIZER;CN=jerome.nesnadny@gmail.com:MAILTO:jerome.nesnadny@gmail.com
DTSTART;TZID=America/Los_Angeles:20260502T090000
DTEND;TZID=America/Los_Angeles:20260503T150000
X-ALT-DESC;FMTTYPE=TEXT/HTML:
CATEGORIES:General
URL;VALUE=URI:https://laconchitabeach.com/mc-events/la-conchita-yard-sale/
METHOD:PUBLISH
END:VEVENT
END:VCALENDAR