BEGIN:VCALENDAR
VERSION:2.0
PRODID:spatie/icalendar-generator
DESCRIPTION:Events from La Conchita Beach California
X-WR-CALDESC:Events from La Conchita Beach California
REFRESH-INTERVAL;VALUE=DURATION:PT1440M
X-PUBLISHED-TTL:PT1440M
BEGIN:VTIMEZONE
TZID:America/Los_Angeles
BEGIN:DAYLIGHT
DTSTART:20250309T020000Z
TZOFFSETFROM:-0800
TZOFFSETTO:-0700
END:DAYLIGHT
BEGIN:STANDARD
DTSTART:20251102T020000Z
TZOFFSETFROM:-0700
TZOFFSETTO:-0800
END:STANDARD
BEGIN:DAYLIGHT
DTSTART:20260308T020000Z
TZOFFSETFROM:-0800
TZOFFSETTO:-0700
END:DAYLIGHT
END:VTIMEZONE
BEGIN:VTIMEZONE
TZID:UTC
BEGIN:STANDARD
DTSTART:20250727T200813Z
TZOFFSETFROM:+0000
TZOFFSETTO:+0000
END:STANDARD
END:VTIMEZONE
BEGIN:VEVENT
UID:20-13
DTSTAMP:20260423T200813Z
SUMMARY:La Conchita Community Meeting &amp;amp\; Potluck
LOCATION:
ORGANIZER;CN=Elizabeth Reider:MAILTO:lizrider1@gmail.com
DTSTART;TZID=America/Los_Angeles:20251101T160000
DTEND;TZID=America/Los_Angeles:20251101T193000
X-ALT-DESC;FMTTYPE=TEXT/HTML:November 1st @ 4:00 pm to 7:00+ Bring a dish
CATEGORIES:General
URL;VALUE=URI:https://laconchitabeach.com/mc-events/la-conchita-community-m
 eeting-potluck/
METHOD:PUBLISH
END:VEVENT
END:VCALENDAR