BEGIN:VCALENDAR
VERSION:2.0
PRODID:spatie/icalendar-generator
DESCRIPTION:Events from La Conchita Beach California
X-WR-CALDESC:Events from La Conchita Beach California
REFRESH-INTERVAL;VALUE=DURATION:PT1440M
X-PUBLISHED-TTL:PT1440M
BEGIN:VTIMEZONE
TZID:America/Los_Angeles
BEGIN:STANDARD
DTSTART:20271107T020000Z
TZOFFSETFROM:-0700
TZOFFSETTO:-0800
END:STANDARD
BEGIN:DAYLIGHT
DTSTART:20280312T020000Z
TZOFFSETFROM:-0800
TZOFFSETTO:-0700
END:DAYLIGHT
BEGIN:STANDARD
DTSTART:20281105T020000Z
TZOFFSETFROM:-0700
TZOFFSETTO:-0800
END:STANDARD
END:VTIMEZONE
BEGIN:VTIMEZONE
TZID:UTC
BEGIN:STANDARD
DTSTART:20250727T225750Z
TZOFFSETFROM:+0000
TZOFFSETTO:+0000
END:STANDARD
END:VTIMEZONE
BEGIN:VEVENT
UID:26-2
DTSTAMP:20260423T225750Z
SUMMARY:La Conchita Beach Cleanup
LOCATION:
ORGANIZER;CN=Elizabeth Reider:MAILTO:lizrider1@gmail.com
RRULE:FREQ=YEARLY;BYMONTH=07;BYDAY=05;UNTIL=20300405T000000Z
DTSTART;TZID=America/Los_Angeles:20280705T100000
DTEND;TZID=America/Los_Angeles:20280705T120000
X-ALT-DESC;FMTTYPE=TEXT/HTML:La Conchita Beach Cleanup
CATEGORIES:General
URL;VALUE=URI:https://laconchitabeach.com/mc-events/la-conchita-beach-clean
 up/?mc_id=26
METHOD:PUBLISH
END:VEVENT
END:VCALENDAR