BEGIN:VCALENDAR
VERSION:2.0
PRODID:spatie/icalendar-generator
DESCRIPTION:Events from La Conchita Beach California
X-WR-CALDESC:Events from La Conchita Beach California
REFRESH-INTERVAL;VALUE=DURATION:PT1440M
X-PUBLISHED-TTL:PT1440M
BEGIN:VTIMEZONE
TZID:America/Los_Angeles
BEGIN:STANDARD
DTSTART:20231105T020000Z
TZOFFSETFROM:-0700
TZOFFSETTO:-0800
END:STANDARD
BEGIN:DAYLIGHT
DTSTART:20240310T020000Z
TZOFFSETFROM:-0800
TZOFFSETTO:-0700
END:DAYLIGHT
BEGIN:STANDARD
DTSTART:20241103T020000Z
TZOFFSETFROM:-0700
TZOFFSETTO:-0800
END:STANDARD
END:VTIMEZONE
BEGIN:VTIMEZONE
TZID:UTC
BEGIN:STANDARD
DTSTART:20250727T161744Z
TZOFFSETFROM:+0000
TZOFFSETTO:+0000
END:STANDARD
END:VTIMEZONE
BEGIN:VEVENT
UID:4-3
DTSTAMP:20260423T161744Z
SUMMARY:Community Wide Cleanup- August 10 from 9am-1pm
LOCATION:
ORGANIZER;CN=Public Submitter:MAILTO:
DTSTART;TZID=America/Los_Angeles;VALUE=DATE:20240725
DTEND;TZID=America/Los_Angeles;VALUE=DATE:20240726
X-ALT-DESC;FMTTYPE=TEXT/HTML:Town Clean up
CATEGORIES:General
URL;VALUE=URI:https://laconchitabeach.com/mc-events/community-wide-cleanup-
 august-10-from-9am-1pm/
METHOD:PUBLISH
END:VEVENT
END:VCALENDAR